Workbook

Sheet Zbiorcze
B2: STATYSTYKI
B4: ILOŚĆ CZYTELNIKÓW W GMINNEJ BIBLIOTECE PUBLICZNEJ:
C5: 1948 | D5: 1949 | E5: 1950 | F5: 1951 | G5: 1952 | H5: 1953 | I5: 1954 | J5: 1955 | K5: 1956 | L5: 1957 | M5: 1958 | N5: 1959 | O5: 1960 | P5: 1961 | Q5: 1962 | R5: 1963 | S5: 1964 | T5: 1965 | U5: 1966 | V5: 1967 | W5: 1968 | X5: 1969 | Y5: 1970 | Z5: 1971 | AA5: 1972 | AB5: 1973 | AC5: 1974 | AD5: 1975 | AE5: 1976 | AF5: 1977 | AG5: 1978 | AH5: 1979 | AI5: 1980 | AJ5: 1981 | AK5: 1982 | AL5: 1983 | AM5: 1984 | AN5: 1985 | AO5: 1986 | AP5: 1987 | AQ5: 1988 | AR5: 1989 | AS5: 1990 | AT5: 1991 | AU5: 1992 | AV5: 1993 | AW5: 1994 | AX5: 1995 | AY5: 1996 | AZ5: 1997 | BA5: 1998 | BB5: 1999 | BC5: 2000 | BD5: 2001 | BE5: 2002 | BF5: 2003 | BG5: 2004 | BH5: 2005 | BI5: 2006 | BJ5: 2007 | BK5: 2008 | BL5: 2009 | BM5: 2010 | BN5: 2011 | BO5: 2012 | BP5: 2013 | BQ5: 2014 | BR5: 2015 | BS5: 2016 | BT5: 2017 | BU5: 2018 | BV5: 2019 | BW5: 2020 | BX5: 2021 | BY5: 2022
B6: Kolbudy | M6: 119 | P6: 203 | S6: 314 | T6: 316 | U6: 320 | V6: 301 | W6: 316 | X6: 299 | Y6: 406 | Z6: 408 | AA6: 417 | AB6: 478 | AC6: 370 | AD6: 350 | AE6: 355 | AF6: 542 | AG6: 438 | AH6: 453 | AI6: 364 | AJ6: 325 | AK6: 281 | AL6: 297 | AM6: 302 | AN6: 338 | AO6: 423 | AP6: 410 | AQ6: 529 | AR6: 474 | AS6: 443 | AT6: 407 | AU6: 393 | AV6: 444 | AW6: 443 | AX6: 483 | AY6: 553 | AZ6: 567 | BA6: 599 | BB6: 575 | BC6: 565 | BD6: 590 | BE6: 668 | BF6: 719 | BG6: 699 | BH6: 639 | BI6: 634 | BJ6: 646 | BK6: 598 | BL6: 725 | BM6: 831 | BN6: 873 | BO6: 924 | BP6: 932 | BQ6: 1030 | BR6: 1057 | BS6: 1059 | BT6: 1111 | BU6: 1144 | BV6: 1324 | BW6: 1064 | BX6: 1092 | BY6: 1272
B7: Punkty Biblioteczne | M7: 222 | P7: 282 | S7: 423 | T7: 426 | U7: 442 | V7: 450 | W7: 460 | X7: 479 | Y7: 487 | Z7: 497 | AA7: 533 | AB7: 557 | AC7: 578 | AD7: 598 | AE7: 588 | AF7: 543 | AG7: 183 | AH7: 170 | AI7: 319 | AJ7: 470 | AK7: 716 | AL7: 708 | AM7: 858 | AN7: 587 | AO7: 280
B8: Pręgowo | AT8: 74 | AU8: 124 | AV8: 130 | AW8: 146 | AX8: 146 | AY8: 180 | AZ8: 161 | BA8: 119 | BB8: 127 | BC8: 123 | BD8: 128 | BE8: 119 | BF8: 109 | BG8: 112 | BH8: 115 | BI8: 105 | BJ8: 96 | BK8: 90 | BL8: 68 | BM8: 74 | BN8: 97 | BO8: 109 | BP8: 98 | BQ8: 107 | BR8: 110 | BS8: 105 | BT8: 85 | BU8: 101 | BV8: 120 | BW8: 112 | BX8: 112 | BY8: 145
B9: Czytelnicy ogółem | M9: =SUM(M6:M8) -> 341 | P9: =SUM(P6:P8) -> 485 | S9: =SUM(S6:S8) -> 737 | T9: =SUM(T6:T8) -> 742 | U9: =SUM(U6:U8) -> 762 | V9: =SUM(V6:V8) -> 751 | W9: =SUM(W6:W8) -> 776 | X9: =SUM(X6:X8) -> 778 | Y9: =SUM(Y6:Y8) -> 893 | Z9: =SUM(Z6:Z8) -> 905 | ... BY9: =SUM(BY6:BY8) -> 1417
B10: WIELKOŚĆ KSIĘGOZBIORU:
C11: 1948 | D11: 1949 | E11: 1950 | F11: 1951 | G11: 1952 | H11: 1953 | I11: 1954 | J11: 1955 | K11: 1956 | L11: 1957 | M11: 1958 | N11: 1959 | O11: 1960 | P11: 1961 | Q11: 1962 | R11: 1963 | S11: 1964 | T11: 1965 | U11: 1966 | V11: 1967 | W11: 1968 | X11: 1969 | Y11: 1970 | Z11: 1971 | AA11: 1972 | AB11: 1973 | AC11: 1974 | AD11: 1975 | AE11: 1976 | AF11: 1977 | AG11: 1978 | AH11: 1979 | AI11: 1980 | AJ11: 1981 | AK11: 1982 | AL11: 1983 | AM11: 1984 | AN11: 1985 | AO11: 1986 | AP11: 1987 | AQ11: 1988 | AR11: 1989 | AS11: 1990 | AT11: 1991 | AU11: 1992 | AV11: 1993 | AW11: 1994 | AX11: 1995 | AY11: 1996 | AZ11: 1997 | BA11: 1998 | BB11: 1999 | BC11: 2000 | BD11: 2001 | BE11: 2002 | BF11: =BF5 -> 2003 | BG11: =BG5 -> 2004 | BH11: =BH5 -> 2005 | BI11: =BI5 -> 2006 | BJ11: =BJ5 -> 2007 | BK11: =BK5 -> 2008 | BL11: =BL5 -> 2009 | BM11: =BM5 -> 2010 | ... BO11: =BO5 -> 2012 | BP11: 2013 | BQ11: 2014 | BR11: 2015 | BS11: 2016 | BT11: 2017 | BU11: 2018 | BV11: 2019 | BW11: 2020 | BX11: 2021 | BY11: 2022
B12: Kolbudy | C12: 120 | D12: 606 | E12: 1163 | F12: 1640 | G12: 2060 | H12: 2277 | I12: 3056 | J12: 3600 | K12: 3841 | L12: 3890 | M12: 4048 | N12: 4192 | O12: 4184 | P12: 4416 | Q12: 4630 | R12: 4603 | S12: 4498 | T12: 4486 | U12: 4680 | V12: 4904 | W12: 4708 | X12: 4958 | Y12: 5959 | Z12: 6414 | AA12: 6851 | AB12: 7565 | AC12: 7993 | AD12: 8284 | AE12: 8855 | AF12: 8140 | AG12: 8406 | AH12: 9278 | AI12: 10491 | AJ12: 10250 | AK12: 11010 | AL12: 12077 | AM12: 13016 | AN12: 13965 | AO12: 14008 | AP12: 14413 | AQ12: 14409 | AR12: 14750 | AS12: 15224 | AT12: 13177 | AU12: 13048 | AV12: 13431 | AW12: 13927 | AX12: 14631 | AY12: 14838 | AZ12: 14805 | BA12: 15074 | BB12: 15198 | BC12: 15403 | BD12: 15765 | BE12: 15780 | BF12: 16149 | BG12: 17020 | BH12: 17424 | BI12: 18076 | BJ12: 18545 | BK12: 18890 | BL12: 19128 | BM12: 19828 | BN12: 20371 | BO12: 21054 | BP12: 21797 | BQ12: 22893 | BR12: 24233 | BS12: 25249 | BT12: 25677 | BU12: 24630 | BV12: 25630 | BW12: 26680 | BX12: 27990 | BY12: 29130
B13: Pręgowo | AT13: 3074 | AU13: 3163 | AV13: 3337 | AW13: 3559 | AX13: 4029 | AY13: 4173 | AZ13: 4221 | BA13: 4295 | BB13: 4338 | BC13: 4440 | BD13: 4596 | BE13: 4697 | BF13: 4810 | BG13: 5040 | BH13: 5173 | BI13: 5390 | BJ13: 5497 | BK13: 5817 | BL13: 5957 | BM13: 6097 | BN13: 6317 | BO13: 6375 | BP13: 6695 | BQ13: 6995 | BR13: 7295 | BS13: 7655 | BT13: 7139 | BU13: 7699 | BV13: 8059 | BW13: 8479 | BX13: 8819 | BY13: 9191
B14: Ogółem | C14: =SUM(C12:C13) -> 120 | D14: =SUM(D12:D13) -> 606 | E14: =SUM(E12:E13) -> 1163 | F14: =SUM(F12:F13) -> 1640 | G14: =SUM(G12:G13) -> 2060 | H14: =SUM(H12:H13) -> 2277 | I14: =SUM(I12:I13) -> 3056 | J14: =SUM(J12:J13) -> 3600 | ... BY14: =SUM(BY12:BY13) -> 38321
B15: ILOŚĆ WYPOŻYCZEŃ KSIĄŻEK NA ZEWNĄTRZ:
C16: 1948 | D16: 1949 | E16: 1950 | F16: 1951 | G16: 1952 | H16: 1953 | I16: 1954 | J16: 1955 | K16: 1956 | L16: 1957 | M16: 1958 | N16: 1959 | O16: 1960 | P16: 1961 | Q16: 1962 | R16: 1963 | S16: 1964 | T16: 1965 | U16: 1966 | V16: 1967 | W16: 1968 | X16: 1969 | Y16: 1970 | Z16: 1971 | AA16: 1972 | AB16: 1973 | AC16: 1974 | AD16: 1975 | AE16: 1976 | AF16: 1977 | AG16: 1978 | AH16: 1979 | AI16: 1980 | AJ16: 1981 | AK16: 1982 | AL16: 1983 | AM16: 1984 | AN16: 1985 | AO16: 1986 | AP16: 1987 | AQ16: 1988 | AR16: 1989 | AS16: 1990 | AT16: 1991 | AU16: 1992 | AV16: 1993 | AW16: 1994 | AX16: 1995 | AY16: 1996 | AZ16: 1997 | BA16: 1998 | BB16: 1999 | BC16: 2000 | BD16: 2001 | BE16: 2002 | BF16: =BF5 -> 2003 | BG16: =BG5 -> 2004 | BH16: =BH5 -> 2005 | BI16: =BI5 -> 2006 | BJ16: =BJ5 -> 2007 | BK16: =BK5 -> 2008 | BL16: =BL5 -> 2009 | BM16: =BM5 -> 2010 | ... BO16: =BO5 -> 2012 | BP16: 2013 | BQ16: 2014 | BR16: 2015 | BS16: 2016 | BT16: 2017 | BU16: 2018 | BV16: 2019 | BW16: 2020 | BX16: 2021 | BY16: 2022
B17: Kolbudy | M17: 1542 | P17: 1833 | S17: 3397 | T17: 3627 | U17: 3658 | V17: 3685 | W17: 3862 | X17: 3876 | Y17: 3970 | Z17: 3975 | AA17: 3942 | AB17: 3868 | AC17: 3086 | AD17: 3200 | AE17: 5188 | AF17: 11417 | AG17: 8233 | AH17: 13576 | AI17: 12314 | AJ17: 12030 | AK17: 8578 | AL17: 9746 | AM17: 9163 | AN17: 8046 | AO17: 9431 | AP17: 7663 | AQ17: 9671 | AR17: 8776 | AS17: 7931 | AT17: 7557 | AU17: 7987 | AV17: 9075 | AW17: 10521 | AX17: 11834 | AY17: 10730 | AZ17: 9863 | BA17: 10081 | BB17: 9887 | BC17: 8826 | BD17: 9383 | BE17: 9847 | BF17: 10801 | BG17: 11513 | BH17: 9253 | BI17: 10620 | BJ17: 10040 | BK17: 7922 | BL17: 12101 | BM17: 14276 | BN17: 17022 | BO17: 16181 | BP17: 15666 | BQ17: 17350 | BR17: 17838 | BS17: 18265 | BT17: 17574 | BU17: 15958 | BV17: 19669 | BW17: 12486 | BX17: 16469 | BY17: 18810
B18: Punkty Biblioteczne | M18: 1525 | P18: 2781 | S18: 3374 | T18: 3379 | U18: 3420 | V18: 3437 | W18: 3459 | X18: 3459 | Y18: 3473 | Z18: 3509 | AA18: 3598 | AB18: 3878 | AC18: 4102 | AD18: 4170 | AE18: 4674 | AF18: 4028 | AG18: 2074 | AH18: 1542 | AI18: 2385 | AJ18: 3217 | AK18: 4821 | AL18: 5960 | AM18: 7520 | AN18: 6022 | AO18: 3345
B19: Pręgowo | AT19: 237 | AU19: 1346 | AV19: 2011 | AW19: 2621 | AX19: 2926 | AY19: 2329 | AZ19: 1897 | BA19: 1384 | BB19: 1214 | BC19: 1235 | BD19: 1323 | BE19: 1315 | BF19: 1441 | BG19: 1157 | BH19: 1325 | BI19: 1174 | BJ19: 894 | BK19: 615 | BL19: 626 | BM19: 942 | BN19: 897 | BO19: 1202 | BP19: 1250 | BQ19: 1274 | BR19: 1118 | BS19: 1001 | BT19: 727 | BU19: 535 | BV19: 949 | BW19: 730 | BX19: 807 | BY19: 1533
B20: Ogółem | M20: =SUM(M17:M19) -> 3067 | P20: =SUM(P17:P19) -> 4614 | S20: =SUM(S17:S19) -> 6771 | T20: =SUM(T17:T19) -> 7006 | U20: =SUM(U17:U19) -> 7078 | V20: =SUM(V17:V19) -> 7122 | W20: =SUM(W17:W19) -> 7321 | X20: =SUM(X17:X19) -> 7335 | Y20: =SUM(Y17:Y19) -> 7443 | Z20: =SUM(Z17:Z19) -> 7484 | ... BY20: =SUM(BY17:BY19) -> 20343
B21: ILOŚĆ WYPOŻYCZEŃ KSIĄŻEK NA MIEJSCU W BIBLIOTECE:
C22: 1948 | D22: 1949 | E22: 1950 | F22: 1951 | G22: 1952 | H22: 1953 | I22: 1954 | J22: 1955 | K22: 1956 | L22: 1957 | M22: 1958 | N22: 1959 | O22: 1960 | P22: 1961 | Q22: 1962 | R22: 1963 | S22: 1964 | T22: 1965 | U22: 1966 | V22: 1967 | W22: 1968 | X22: 1969 | Y22: 1970 | Z22: 1971 | AA22: 1972 | AB22: 1973 | AC22: 1974 | AD22: 1975 | AE22: 1976 | AF22: 1977 | AG22: 1978 | AH22: 1979 | AI22: 1980 | AJ22: 1981 | AK22: 1982 | AL22: 1983 | AM22: 1984 | AN22: 1985 | AO22: 1986 | AP22: 1987 | AQ22: 1988 | AR22: 1989 | AS22: 1990 | AT22: 1991 | AU22: 1992 | AV22: 1993 | AW22: 1994 | AX22: 1995 | AY22: 1996 | AZ22: 1997 | BA22: 1998 | BB22: 1999 | BC22: 2000 | BD22: 2001 | BE22: 2002 | BF22: =BF5 -> 2003 | BG22: =BG5 -> 2004 | BH22: =BH5 -> 2005 | BI22: =BI5 -> 2006 | BJ22: =BJ5 -> 2007 | BK22: =BK5 -> 2008 | BL22: =BL5 -> 2009 | BM22: =BM5 -> 2010 | ... BO22: =BO5 -> 2012 | BP22: 2013 | BQ22: 2014 | BR22: 2015 | BS22: 2016 | BT22: 2017 | BU22: 2018 | BV22: 2019 | BW22: 2020 | BX22: 2021 | BY22: 2022
B23: Kolbudy | AJ23: 93 | AK23: 139 | AL23: 159 | AM23: 169 | AN23: 116 | AO23: 160 | AP23: 97 | AQ23: 727 | AR23: 611 | AS23: 513 | AT23: 559 | AU23: 714 | AV23: 1111 | AW23: 1222 | AX23: 1848 | AY23: 2240 | AZ23: 3577 | BA23: 4627 | BB23: 5871 | BC23: 5632 | BD23: 4985 | BE23: 5459 | BF23: 5853 | BG23: 6199 | BH23: 2943 | BI23: 3954 | BJ23: 2155 | BK23: 2587 | BL23: 6822 | BM23: 5825 | BN23: 5836 | BO23: 6058 | BP23: 7459 | BQ23: 9428 | BR23: 8252 | BS23: 9788 | BT23: 9448 | BU23: 7884 | BV23: 8273 | BW23: 10838 | BX23: 11603 | BY23: 8241
B24: Pręgowo | AT24: 72 | AU24: 106 | AV24: 171 | AW24: 331 | AX24: 292 | AY24: 205 | AZ24: 430 | BA24: 552 | BB24: 723 | BC24: 1073 | BD24: 936 | BE24: 759 | BF24: 658 | BG24: 511 | BH24: 855 | BI24: 442 | BJ24: 483 | BK24: 719 | BL24: 273 | BM24: 351 | BN24: 207 | BO24: 549 | BP24: 168 | BQ24: 379 | BR24: 528 | BS24: 902 | BT24: 128 | BU24: 171 | BV24: 631 | BW24: 1021 | BX24: 520 | BY24: 724
B25: Ogółem | AJ25: =SUM(AJ23:AJ24) -> 93 | AK25: =SUM(AK23:AK24) -> 139 | AL25: =SUM(AL23:AL24) -> 159 | AM25: =SUM(AM23:AM24) -> 169 | AN25: =SUM(AN23:AN24) -> 116 | AO25: =SUM(AO23:AO24) -> 160 | AP25: =SUM(AP23:AP24) -> 97 | AQ25: =SUM(AQ23:AQ24) -> 727 | ... BY25: =SUM(BY23:BY24) -> 8965
B26: ILOŚĆ POBRANYCH E-BOOKÓW I AUDIOBOOKÓW:
C27: 1948 | D27: 1949 | E27: 1950 | F27: 1951 | G27: 1952 | H27: 1953 | I27: 1954 | J27: 1955 | K27: 1956 | L27: 1957 | M27: 1958 | N27: 1959 | O27: 1960 | P27: 1961 | Q27: 1962 | R27: 1963 | S27: 1964 | T27: 1965 | U27: 1966 | V27: 1967 | W27: 1968 | X27: 1969 | Y27: 1970 | Z27: 1971 | AA27: 1972 | AB27: 1973 | AC27: 1974 | AD27: 1975 | AE27: 1976 | AF27: 1977 | AG27: 1978 | AH27: 1979 | AI27: 1980 | AJ27: 1981 | AK27: 1982 | AL27: 1983 | AM27: 1984 | AN27: 1985 | AO27: 1986 | AP27: 1987 | AQ27: 1988 | AR27: 1989 | AS27: 1990 | AT27: 1991 | AU27: 1992 | AV27: 1993 | AW27: 1994 | AX27: 1995 | AY27: 1996 | AZ27: 1997 | BA27: 1998 | BB27: 1999 | BC27: 2000 | BD27: 2001 | BE27: 2002 | BF27: =BF$5 -> 2003 | BG27: =BG$5 -> 2004 | BH27: =BH$5 -> 2005 | BI27: =BI$5 -> 2006 | BJ27: =BJ$5 -> 2007 | BK27: =BK$5 -> 2008 | BL27: =BL$5 -> 2009 | BM27: =BM$5 -> 2010 | ... BO27: =BO$5 -> 2012 | BP27: 2013 | BQ27: 2014 | BR27: 2015 | BS27: 2016 | BT27: 2017 | BU27: 2018 | BV27: 2019 | BW27: 2020 | BX27: 2021 | BY27: 2022
B28: Ogółem | BV28: 428 | BW28: 3882 | BX28: 5180 | BY28: 9281
B29: ILOŚĆ WYPOŻYCZEŃ CZASOPISM NA ZEWNĄTRZ:
C30: 1948 | D30: 1949 | E30: 1950 | F30: 1951 | G30: 1952 | H30: 1953 | I30: 1954 | J30: 1955 | K30: 1956 | L30: 1957 | M30: 1958 | N30: 1959 | O30: 1960 | P30: 1961 | Q30: 1962 | R30: 1963 | S30: 1964 | T30: 1965 | U30: 1966 | V30: 1967 | W30: 1968 | X30: 1969 | Y30: 1970 | Z30: 1971 | AA30: 1972 | AB30: 1973 | AC30: 1974 | AD30: 1975 | AE30: 1976 | AF30: 1977 | AG30: 1978 | AH30: 1979 | AI30: 1980 | AJ30: 1981 | AK30: 1982 | AL30: 1983 | AM30: 1984 | AN30: 1985 | AO30: 1986 | AP30: 1987 | AQ30: 1988 | AR30: 1989 | AS30: 1990 | AT30: 1991 | AU30: 1992 | AV30: 1993 | AW30: 1994 | AX30: 1995 | AY30: 1996 | AZ30: 1997 | BA30: 1998 | BB30: 1999 | BC30: 2000 | BD30: 2001 | BE30: 2002 | BF30: =BF5 -> 2003 | BG30: =BG5 -> 2004 | BH30: =BH5 -> 2005 | BI30: =BI5 -> 2006 | BJ30: =BJ5 -> 2007 | BK30: =BK5 -> 2008 | BL30: =BL5 -> 2009 | BM30: =BM5 -> 2010 | ... BO30: =BO5 -> 2012 | BP30: 2013 | BQ30: 2014 | BR30: 2015 | BS30: 2016 | BT30: 2017 | BU30: 2018 | BV30: 2019 | BW30: 2020 | BX30: 2021 | BY30: 2022
B31: Kolbudy | AO31: 923 | AP31: 36 | AQ31: 801 | AR31: 984 | AS31: 1010 | AT31: 1198 | AU31: 1180 | AV31: 1988 | AW31: 1779 | AX31: 3049 | AY31: 3350 | AZ31: 3255 | BA31: 3656 | BB31: 3745 | BC31: 3821 | BD31: 3643 | BE31: 3642 | BF31: 4526 | BG31: 4053 | BH31: 3113 | BI31: 3023 | BJ31: 3465 | BK31: 1903 | BL31: 1817 | BM31: 1654 | BN31: 1765 | BO31: 1954 | BP31: 1826 | BQ31: 1622 | BR31: 1622 | BS31: 1362 | BT31: 1192 | BU31: 1113 | BV31: 1297 | BW31: 597 | BX31: 1204 | BY31: 953
B32: Pręgowo | AV32: 55 | AW32: 111 | AX32: 99 | AY32: 167 | AZ32: 268 | BA32: 125 | BB32: 326 | BC32: 137 | BD32: 114 | BE32: 102 | BF32: 47 | BG32: 45 | BH32: 25 | BI32: 31 | BJ32: 10 | BK32: 16 | BL32: 24 | BM32: 36 | BN32: 36 | BO32: 86 | BP32: 38 | BQ32: 62 | BR32: 41 | BS32: 24 | BT32: 22 | BU32: 48 | BV32: 14 | BW32: 29 | BX32: 30 | BY32: 50
B33: Ogółem | AO33: =SUM(AO31:AO32) -> 923 | AP33: =SUM(AP31:AP32) -> 36 | AQ33: =SUM(AQ31:AQ32) -> 801 | AR33: =SUM(AR31:AR32) -> 984 | AS33: =SUM(AS31:AS32) -> 1010 | AT33: =SUM(AT31:AT32) -> 1198 | AU33: =SUM(AU31:AU32) -> 1180 | AV33: =SUM(AV31:AV32) -> 2043 | ... BY33: =SUM(BY31:BY32) -> 1003
B34: ILOŚĆ WYPOŻYCZEŃ CZASOPISM NA MIEJSCU W BIBLIOTECE:
C35: 1948 | D35: 1949 | E35: 1950 | F35: 1951 | G35: 1952 | H35: 1953 | I35: 1954 | J35: 1955 | K35: 1956 | L35: 1957 | M35: 1958 | N35: 1959 | O35: 1960 | P35: 1961 | Q35: 1962 | R35: 1963 | S35: 1964 | T35: 1965 | U35: 1966 | V35: 1967 | W35: 1968 | X35: 1969 | Y35: 1970 | Z35: 1971 | AA35: 1972 | AB35: 1973 | AC35: 1974 | AD35: 1975 | AE35: 1976 | AF35: 1977 | AG35: 1978 | AH35: 1979 | AI35: 1980 | AJ35: 1981 | AK35: 1982 | AL35: 1983 | AM35: 1984 | AN35: 1985 | AO35: 1986 | AP35: 1987 | AQ35: 1988 | AR35: 1989 | AS35: 1990 | AT35: 1991 | AU35: 1992 | AV35: 1993 | AW35: 1994 | AX35: 1995 | AY35: 1996 | AZ35: 1997 | BA35: 1998 | BB35: 1999 | BC35: 2000 | BD35: 2001 | BE35: 2002 | BF35: =BF$5 -> 2003 | BG35: =BG$5 -> 2004 | BH35: =BH$5 -> 2005 | BI35: =BI$5 -> 2006 | BJ35: =BJ$5 -> 2007 | BK35: =BK$5 -> 2008 | BL35: =BL$5 -> 2009 | BM35: =BM$5 -> 2010 | ... BO35: =BO$5 -> 2012 | BP35: 2013 | BQ35: 2014 | BR35: 2015 | BS35: 2016 | BT35: 2017 | BU35: 2018 | BV35: 2019 | BW35: 2020 | BX35: 2021 | BY35: 2022
B36: Kolbudy | AM36: 300 | AN36: 800 | AO36: 800 | AP36: 40 | AQ36: 1644 | AR36: 3565 | AS36: 3152 | AT36: 4371 | AU36: 2893 | AV36: 2393 | AW36: 2255 | AX36: 3261 | AY36: 4947 | AZ36: 6997 | BA36: 10281 | BB36: 11486 | BC36: 15884 | BD36: 10793 | BE36: 12750 | BF36: 10592 | BG36: 14859 | BH36: 3723 | BI36: 5690 | BJ36: 1149 | BK36: 1505 | BL36: 2068 | BM36: 1114 | BN36: 808 | BO36: 1512 | BP36: 1794 | BQ36: 1159 | BR36: 907 | BS36: 552 | BT36: 723 | BU36: 352 | BV36: 286 | BW36: 269 | BX36: 242 | BY36: 106
B37: Pręgowo | AW37: 199 | AX37: 219 | AY37: 43 | AZ37: 619 | BA37: 444 | BB37: 1599 | BC37: 2271 | BD37: 1722 | BE37: 1728 | BF37: 986 | BG37: 632 | BH37: 1420 | BI37: 804 | BJ37: 206 | BK37: 21 | BL37: 117 | BM37: 127 | BN37: 33 | BO37: 38 | BP37: 50 | BQ37: 149 | BR37: 47 | BS37: 33 | BT37: 17 | BU37: 26 | BV37: 66 | BW37: 163 | BX37: 60 | BY37: 46
B38: Ogółem | AM38: =SUM(AM36:AM37) -> 300 | AN38: =SUM(AN36:AN37) -> 800 | AO38: =SUM(AO36:AO37) -> 800 | AP38: =SUM(AP36:AP37) -> 40 | AQ38: =SUM(AQ36:AQ37) -> 1644 | AR38: =SUM(AR36:AR37) -> 3565 | AS38: =SUM(AS36:AS37) -> 3152 | AT38: =SUM(AT36:AT37) -> 4371 | ... BY38: =SUM(BY36:BY37) -> 152
B39: ILOŚĆ ZAKUPIONYCH KSIĄŻEK:
C40: 1948 | D40: 1949 | E40: 1950 | F40: 1951 | G40: 1952 | H40: 1953 | I40: 1954 | J40: 1955 | K40: 1956 | L40: 1957 | M40: 1958 | N40: 1959 | O40: 1960 | P40: 1961 | Q40: 1962 | R40: 1963 | S40: 1964 | T40: 1965 | U40: 1966 | V40: 1967 | W40: 1968 | X40: 1969 | Y40: 1970 | Z40: 1971 | AA40: 1972 | AB40: 1973 | AC40: 1974 | AD40: 1975 | AE40: 1976 | AF40: 1977 | AG40: 1978 | AH40: 1979 | AI40: 1980 | AJ40: 1981 | AK40: 1982 | AL40: 1983 | AM40: 1984 | AN40: 1985 | AO40: 1986 | AP40: 1987 | AQ40: 1988 | AR40: 1989 | AS40: 1990 | AT40: 1991 | AU40: 1992 | AV40: 1993 | AW40: 1994 | AX40: 1995 | AY40: 1996 | AZ40: 1997 | BA40: 1998 | BB40: 1999 | BC40: 2000 | BD40: 2001 | BE40: 2002 | BF40: =BF$5 -> 2003 | BG40: =BG$5 -> 2004 | BH40: =BH$5 -> 2005 | BI40: =BI$5 -> 2006 | BJ40: =BJ$5 -> 2007 | BK40: =BK$5 -> 2008 | BL40: =BL$5 -> 2009 | BM40: =BM$5 -> 2010 | ... BO40: =BO$5 -> 2012 | BP40: 2013 | BQ40: 2014 | BR40: 2015 | BS40: 2016 | BT40: 2017 | BU40: 2018 | BV40: 2019 | BW40: 2020 | BX40: 2021 | BY40: 2022
B41: Kolbudy | P41: 262 | S41: 203 | T41: 243 | U41: 194 | V41: 311 | W41: 198 | X41: 250 | Y41: 313 | Z41: 455 | AA41: 437 | AB41: 495 | AC41: 428 | AD41: 542 | AE41: 571 | AF41: 489 | AG41: 266 | AH41: 872 | AI41: 1403 | AJ41: 1047 | AK41: 789 | AL41: 1067 | AM41: 1231 | AN41: 1298 | AO41: 500 | AP41: 509 | AQ41: 721 | AR41: 840 | AS41: 463 | AT41: 619 | AU41: 151 | AV41: 335 | AW41: 595 | AX41: 202 | AY41: 39 | AZ41: 19 | BA41: 222 | BB41: 38 | BC41: 166 | BD41: 261 | BE41: 194 | BF41: 432 | BG41: 561 | BH41: 550 | BI41: 641 | BJ41: 655 | BK41: 633 | BL41: 503 | BM41: 584 | BN41: 544 | BO41: 676 | BP41: 729 | BQ41: 828 | BR41: 927 | BS41: 970 | BT41: 1050 | BU41: 1158 | BV41: 1153 | BW41: 1239 | BX41: 1238 | BY41: 1385
B42: Pręgowo | AT42: 44 | AU42: 29 | AV42: 150 | AW42: 165 | AX42: 60 | AY42: 16 | AZ42: 15 | BA42: 58 | BB42: 17 | BC42: 82 | BD42: 132 | BE42: 64 | BF42: 104 | BG42: 142 | BH42: 118 | BI42: 140 | BJ42: 161 | BK42: 145 | BL42: 96 | BM42: 111 | BN42: 145 | BO42: 103 | BP42: 144 | BQ42: 113 | BR42: 200 | BS42: 258 | BT42: 240 | BU42: 309 | BV42: 205 | BW42: 254 | BX42: 201 | BY42: 494
...

Sheet Ilość czytelników
B4: =Zbiorcze!M5 -> 1958 | C4: =Zbiorcze!N5 -> 1959 | D4: =Zbiorcze!O5 -> 1960 | E4: =Zbiorcze!P5 -> 1961 | F4: =Zbiorcze!Q5 -> 1962 | G4: =Zbiorcze!R5 -> 1963 | H4: =Zbiorcze!S5 -> 1964 | I4: =Zbiorcze!T5 -> 1965 | ... BN4: =Zbiorcze!BY5 -> 2022
A5: Kolbudy | B5: =Zbiorcze!M6 -> 119 | C5: =Zbiorcze!N6 -> 0 | D5: =Zbiorcze!O6 -> 0 | E5: =Zbiorcze!P6 -> 203 | F5: =Zbiorcze!Q6 -> 0 | G5: =Zbiorcze!R6 -> 0 | H5: =Zbiorcze!S6 -> 314 | I5: =Zbiorcze!T6 -> 316 | ... BN5: =Zbiorcze!BY6 -> 1272
A6: Punkty biblioteczne | B6: =Zbiorcze!M7 -> 222 | C6: =Zbiorcze!N7 -> 0 | D6: =Zbiorcze!O7 -> 0 | E6: =Zbiorcze!P7 -> 282 | F6: =Zbiorcze!Q7 -> 0 | G6: =Zbiorcze!R7 -> 0 | H6: =Zbiorcze!S7 -> 423 | I6: =Zbiorcze!T7 -> 426 | ... BN6: =Zbiorcze!BY7 -> 0
A7: Pręgowo | B7: =Zbiorcze!M8 -> 0 | C7: =Zbiorcze!N8 -> 0 | D7: =Zbiorcze!O8 -> 0 | E7: =Zbiorcze!P8 -> 0 | F7: =Zbiorcze!Q8 -> 0 | G7: =Zbiorcze!R8 -> 0 | H7: =Zbiorcze!S8 -> 0 | I7: =Zbiorcze!T8 -> 0 | ... BN7: =Zbiorcze!BY8 -> 145

Sheet Wielkość księgozbioru
B5: =Zbiorcze!C11 -> 1948 | C5: =Zbiorcze!D11 -> 1949 | D5: =Zbiorcze!E11 -> 1950 | E5: =Zbiorcze!F11 -> 1951 | F5: =Zbiorcze!G11 -> 1952 | G5: =Zbiorcze!H11 -> 1953 | H5: =Zbiorcze!I11 -> 1954 | I5: =Zbiorcze!J11 -> 1955 | ... BX5: =Zbiorcze!BY11 -> 2022
A6: Kolbudy | B6: =Zbiorcze!C12 -> 120 | C6: =Zbiorcze!D12 -> 606 | D6: =Zbiorcze!E12 -> 1163 | E6: =Zbiorcze!F12 -> 1640 | F6: =Zbiorcze!G12 -> 2060 | G6: =Zbiorcze!H12 -> 2277 | H6: =Zbiorcze!I12 -> 3056 | I6: =Zbiorcze!J12 -> 3600 | ... BX6: =Zbiorcze!BY12 -> 29130
A7: Pręgowo | B7: =Zbiorcze!C13 -> 0 | C7: =Zbiorcze!D13 -> 0 | D7: =Zbiorcze!E13 -> 0 | E7: =Zbiorcze!F13 -> 0 | F7: =Zbiorcze!G13 -> 0 | G7: =Zbiorcze!H13 -> 0 | H7: =Zbiorcze!I13 -> 0 | I7: =Zbiorcze!J13 -> 0 | ... BX7: =Zbiorcze!BY13 -> 9191

Sheet Wypożyczenia
B5: =Zbiorcze!M16 -> 1958 | C5: =Zbiorcze!N16 -> 1959 | D5: =Zbiorcze!O16 -> 1960 | E5: =Zbiorcze!P16 -> 1961 | F5: =Zbiorcze!Q16 -> 1962 | G5: =Zbiorcze!R16 -> 1963 | H5: =Zbiorcze!S16 -> 1964 | I5: =Zbiorcze!T16 -> 1965 | ... BN5: =Zbiorcze!BY16 -> 2022
A6: Kolbudy | B6: =Zbiorcze!M17 -> 1542 | C6: =Zbiorcze!N17 -> 0 | D6: =Zbiorcze!O17 -> 0 | E6: =Zbiorcze!P17 -> 1833 | F6: =Zbiorcze!Q17 -> 0 | G6: =Zbiorcze!R17 -> 0 | H6: =Zbiorcze!S17 -> 3397 | I6: =Zbiorcze!T17 -> 3627 | ... BN6: =Zbiorcze!BY17 -> 18810
A7: Punkty bibliot. | B7: =Zbiorcze!M18 -> 1525 | C7: =Zbiorcze!N18 -> 0 | D7: =Zbiorcze!O18 -> 0 | E7: =Zbiorcze!P18 -> 2781 | F7: =Zbiorcze!Q18 -> 0 | G7: =Zbiorcze!R18 -> 0 | H7: =Zbiorcze!S18 -> 3374 | I7: =Zbiorcze!T18 -> 3379 | ... BN7: =Zbiorcze!BY18 -> 0
A8: Pręgowo | B8: =Zbiorcze!M19 -> 0 | C8: =Zbiorcze!N19 -> 0 | D8: =Zbiorcze!O19 -> 0 | E8: =Zbiorcze!P19 -> 0 | F8: =Zbiorcze!Q19 -> 0 | G8: =Zbiorcze!R19 -> 0 | H8: =Zbiorcze!S19 -> 0 | I8: =Zbiorcze!T19 -> 0 | ... BN8: =Zbiorcze!BY19 -> 1533

Sheet Wpożyczenia na miejscu
B5: =Zbiorcze!AJ22 -> 1981 | C5: =Zbiorcze!AK22 -> 1982 | D5: =Zbiorcze!AL22 -> 1983 | E5: =Zbiorcze!AM22 -> 1984 | F5: =Zbiorcze!AN22 -> 1985 | G5: =Zbiorcze!AO22 -> 1986 | H5: =Zbiorcze!AP22 -> 1987 | I5: =Zbiorcze!AQ22 -> 1988 | ... AQ5: =Zbiorcze!BY22 -> 2022
A6: Kolbudy | B6: =Zbiorcze!AJ23 -> 93 | C6: =Zbiorcze!AK23 -> 139 | D6: =Zbiorcze!AL23 -> 159 | E6: =Zbiorcze!AM23 -> 169 | F6: =Zbiorcze!AN23 -> 116 | G6: =Zbiorcze!AO23 -> 160 | H6: =Zbiorcze!AP23 -> 97 | I6: =Zbiorcze!AQ23 -> 727 | ... AQ6: =Zbiorcze!BY23 -> 8241
A7: Pręgowo | B7: =Zbiorcze!AJ24 -> 0 | C7: =Zbiorcze!AK24 -> 0 | D7: =Zbiorcze!AL24 -> 0 | E7: =Zbiorcze!AM24 -> 0 | F7: =Zbiorcze!AN24 -> 0 | G7: =Zbiorcze!AO24 -> 0 | H7: =Zbiorcze!AP24 -> 0 | I7: =Zbiorcze!AQ24 -> 0 | ... AQ7: =Zbiorcze!BY24 -> 724

Sheet Wypoż. czasopism
B5: =Zbiorcze!AO30 -> 1986 | C5: =Zbiorcze!AP30 -> 1987 | D5: =Zbiorcze!AQ30 -> 1988 | E5: =Zbiorcze!AR30 -> 1989 | F5: =Zbiorcze!AS30 -> 1990 | G5: =Zbiorcze!AT30 -> 1991 | H5: =Zbiorcze!AU30 -> 1992 | I5: =Zbiorcze!AV30 -> 1993 | ... AL5: =Zbiorcze!BY30 -> 2022
A6: Kolbudy | B6: =Zbiorcze!AO31 -> 923 | C6: =Zbiorcze!AP31 -> 36 | D6: =Zbiorcze!AQ31 -> 801 | E6: =Zbiorcze!AR31 -> 984 | F6: =Zbiorcze!AS31 -> 1010 | G6: =Zbiorcze!AT31 -> 1198 | H6: =Zbiorcze!AU31 -> 1180 | I6: =Zbiorcze!AV31 -> 1988 | ... AL6: =Zbiorcze!BY31 -> 953
A7: Pręgowo | B7: =Zbiorcze!AO32 -> 0 | C7: =Zbiorcze!AP32 -> 0 | D7: =Zbiorcze!AQ32 -> 0 | E7: =Zbiorcze!AR32 -> 0 | F7: =Zbiorcze!AS32 -> 0 | G7: =Zbiorcze!AT32 -> 0 | H7: =Zbiorcze!AU32 -> 0 | I7: =Zbiorcze!AV32 -> 55 | ... AL7: =Zbiorcze!BY32 -> 50

Sheet Wypoż. czasopism na miejscu
B4: =Zbiorcze!AM35 -> 1984 | C4: =Zbiorcze!AN35 -> 1985 | D4: =Zbiorcze!AO35 -> 1986 | E4: =Zbiorcze!AP35 -> 1987 | F4: =Zbiorcze!AQ35 -> 1988 | G4: =Zbiorcze!AR35 -> 1989 | H4: =Zbiorcze!AS35 -> 1990 | I4: =Zbiorcze!AT35 -> 1991 | ... AN4: =Zbiorcze!BY35 -> 2022
A5: Kolbudy | B5: =Zbiorcze!AM36 -> 300 | C5: =Zbiorcze!AN36 -> 800 | D5: =Zbiorcze!AO36 -> 800 | E5: =Zbiorcze!AP36 -> 40 | F5: =Zbiorcze!AQ36 -> 1644 | G5: =Zbiorcze!AR36 -> 3565 | H5: =Zbiorcze!AS36 -> 3152 | I5: =Zbiorcze!AT36 -> 4371 | ... AN5: =Zbiorcze!BY36 -> 106
A6: Pręgowo | B6: =Zbiorcze!AM37 -> 0 | C6: =Zbiorcze!AN37 -> 0 | D6: =Zbiorcze!AO37 -> 0 | E6: =Zbiorcze!AP37 -> 0 | F6: =Zbiorcze!AQ37 -> 0 | G6: =Zbiorcze!AR37 -> 0 | H6: =Zbiorcze!AS37 -> 0 | I6: =Zbiorcze!AT37 -> 0 | ... AN6: =Zbiorcze!BY37 -> 46

Sheet Zakup książek
B4: =Zbiorcze!P40 -> 1961 | C4: =Zbiorcze!Q40 -> 1962 | D4: =Zbiorcze!R40 -> 1963 | E4: =Zbiorcze!S40 -> 1964 | F4: =Zbiorcze!T40 -> 1965 | G4: =Zbiorcze!U40 -> 1966 | H4: =Zbiorcze!V40 -> 1967 | I4: =Zbiorcze!W40 -> 1968 | ... BK4: =Zbiorcze!BY40 -> 2022
A5: Kolbudy | B5: =Zbiorcze!P41 -> 262 | C5: =Zbiorcze!Q41 -> 0 | D5: =Zbiorcze!R41 -> 0 | E5: =Zbiorcze!S41 -> 203 | F5: =Zbiorcze!T41 -> 243 | G5: =Zbiorcze!U41 -> 194 | H5: =Zbiorcze!V41 -> 311 | I5: =Zbiorcze!W41 -> 198 | ... BK5: =Zbiorcze!BY41 -> 1385
A6: Pręgowo | B6: =Zbiorcze!P42 -> 0 | C6: =Zbiorcze!Q42 -> 0 | D6: =Zbiorcze!R42 -> 0 | E6: =Zbiorcze!S42 -> 0 | F6: =Zbiorcze!T42 -> 0 | G6: =Zbiorcze!U42 -> 0 | H6: =Zbiorcze!V42 -> 0 | I6: =Zbiorcze!W42 -> 0 | ... BK6: =Zbiorcze!BY42 -> 494

Sheet Wiek czytel.
B6: Przedział wiekowy | C6: Do 5 lat | D6: 6-12 lat | E6: 13-15 lat | F6: 16-19 lat | G6: 20-24 lata | H6: 25-44 lata | I6: 45-60 lat | J6: Powyżej 60 lat
B7: Liczba czytelników | C7: 103 | D7: 313 | E7: 117 | F7: 74 | G7: 45 | H7: 337 | I7: 229 | J7: 199

Sheet Strukt. księg.
C6: Księgozbiór
C7: Beletrystyka dla dorosłych | D7: 19373
C8: Beletrystyka dla dzieci i młodzieży | D8: 8027
C9: Książki popularnonaukowe | D9: 10921

Sheet Ilość tytułów czasopism
B4: =Zbiorcze!AJ45 -> 1981 | C4: =Zbiorcze!AK45 -> 1982 | D4: =Zbiorcze!AL45 -> 1983 | E4: =Zbiorcze!AM45 -> 1984 | F4: =Zbiorcze!AN45 -> 1985 | G4: =Zbiorcze!AO45 -> 1986 | H4: =Zbiorcze!AP45 -> 1987 | I4: =Zbiorcze!AQ45 -> 1988 | ... AQ4: =Zbiorcze!BY45 -> 2022
A5: Kolbudy | B5: =Zbiorcze!AJ46 -> 6 | C5: =Zbiorcze!AK46 -> 8 | D5: =Zbiorcze!AL46 -> 40 | E5: =Zbiorcze!AM46 -> 46 | F5: =Zbiorcze!AN46 -> 43 | G5: =Zbiorcze!AO46 -> 42 | H5: =Zbiorcze!AP46 -> 40 | I5: =Zbiorcze!AQ46 -> 31 | ... AQ5: =Zbiorcze!BY46 -> 33
A6: Pręgowo | B6: =Zbiorcze!AJ47 -> 0 | C6: =Zbiorcze!AK47 -> 0 | D6: =Zbiorcze!AL47 -> 0 | E6: =Zbiorcze!AM47 -> 0 | F6: =Zbiorcze!AN47 -> 0 | G6: =Zbiorcze!AO47 -> 0 | H6: =Zbiorcze!AP47 -> 0 | I6: =Zbiorcze!AQ47 -> 0 | ... AQ6: =Zbiorcze!BY47 -> 11

Sheet Internet
B4: =Zbiorcze!BG50 -> 2004 | C4: =Zbiorcze!BH50 -> 2005 | D4: =Zbiorcze!BI50 -> 2006 | E4: =Zbiorcze!BJ50 -> 2007 | F4: =Zbiorcze!BK50 -> 2008 | G4: =Zbiorcze!BL50 -> 2009 | H4: =Zbiorcze!BM50 -> 2010 | I4: =Zbiorcze!BN50 -> 2011 | ... T4: =Zbiorcze!BY50 -> 2022
A5: Kolbudy | B5: =Zbiorcze!BG51 -> 3330 | C5: =Zbiorcze!BH51 -> 3523 | D5: =Zbiorcze!BI51 -> 3858 | E5: =Zbiorcze!BJ51 -> 3704 | F5: =Zbiorcze!BK51 -> 5988 | G5: =Zbiorcze!BL51 -> 8049 | H5: =Zbiorcze!BM51 -> 6808 | I5: =Zbiorcze!BN51 -> 4045 | ... T5: =Zbiorcze!BY51 -> 482

Sheet eBOOKI
B4: =Zbiorcze!BV27 -> 2019 | C4: =Zbiorcze!BW27 -> 2020 | D4: =Zbiorcze!BX27 -> 2021 | E4: =Zbiorcze!BY27 -> 2022
A5: Kolbudy | B5: =Zbiorcze!BV28 -> 428 | C5: =Zbiorcze!BW28 -> 3882 | D5: =Zbiorcze!BX28 -> 5180 | E5: =Zbiorcze!BY28 -> 9281
